BEGIN:VCALENDAR
VERSION:2.0
PRODID:SFPL Web Calendar
BEGIN:VEVENT
UID:107030@sfpl.org
DTSTAMP:20250107T223000Z
DTSTART:20250107T223000Z
DTEND:20250107T233000Z
SUMMARY:Workshop: Red Envelope Decorations
DESCRIPTION:<p>Make a variety of decorations out of red envelopes to decorate your home for Lunar New Year. For children ages 6 and older.</p>
LOCATION:Sunset - Sunset Program Room
CLASS:PUBLIC
TRANSP:TRANSPARENT
END:VEVENT
BEGIN:VALARM
TRIGGER:-PT1440M
ACTION:DISPLAY
DESCRIPTION:Event Reminder - Workshop: Red Envelope Decorations
END:VALARM
END:VCALENDAR