BEGIN:VCALENDAR
VERSION:2.0
PRODID:SFPL Web Calendar
BEGIN:VEVENT
UID:107636@sfpl.org
DTSTAMP:20251016T000000Z
DTSTART:20251016T000000Z
DTEND:20251016T020000Z
SUMMARY:Film: Scott Pilgrim vs. the World
DESCRIPTION:<p>Twenty-two-year-old slacker Scott Pilgrim meets Ramona Flowers, the girl of his dreams, and learns that in order to win her heart he'll have to defeat her seven evil exes in a series of video-game-styled battles.</p><p>PG-13, 112 mins., 2010. Closed captions (CC) in English.</p><p>Snacks provided.</p><p>&nbsp;</p>
LOCATION:Park - Park Meeting Room
CLASS:PUBLIC
TRANSP:TRANSPARENT
END:VEVENT
BEGIN:VALARM
TRIGGER:-PT1440M
ACTION:DISPLAY
DESCRIPTION:Event Reminder - Film: Scott Pilgrim vs. the World
END:VALARM
END:VCALENDAR