BEGIN:VCALENDAR
VERSION:2.0
PRODID:SFPL Web Calendar
BEGIN:VEVENT
UID:108583@sfpl.org
DTSTAMP:20250305T183000Z
DTSTART:20250305T183000Z
DTEND:20250305T200000Z
SUMMARY:Presentation: Declutter to Regain Space, Free Time and Peace of Mind
DESCRIPTION:<p>Take advantage of springtime's sense of renewal by recommitting to your 2025 goal to clear distracting clutter. Join Judith Dold, Certified Professional Organizer® and ADHD Coach, to not only learn essential decluttering strategies, but also address common roadblocks that can get in the way. Skills taught in this presentation are meant to increase confidence in tackling the clutter, energy to take immediate action, and motivation to clear the clutter this year to regain much-needed&nbsp;space, free time and peace of mind.</p>
LOCATION:Merced - Merced General Floor Area
CLASS:PUBLIC
TRANSP:TRANSPARENT
END:VEVENT
BEGIN:VALARM
TRIGGER:-PT1440M
ACTION:DISPLAY
DESCRIPTION:Event Reminder - Presentation: Declutter to Regain Space, Free Time and Peace of Mind
END:VALARM
END:VCALENDAR