BEGIN:VCALENDAR
VERSION:2.0
PRODID:SFPL Web Calendar
BEGIN:VEVENT
UID:109169@sfpl.org
DTSTAMP:20250917T220000Z
DTSTART:20250917T220000Z
DTEND:20250918T000000Z
SUMMARY:CANCELED: Activity: LEGO Free Play
DESCRIPTION:<p>Build skyscrapers, forts, castles or whatever your imagination desires with LEGOs. For ages 5 and older.</p>
LOCATION:Bayview/Linda Brooks-Burton - Bayview General Floor Area
CLASS:PUBLIC
TRANSP:TRANSPARENT
END:VEVENT
BEGIN:VALARM
TRIGGER:-PT1440M
ACTION:DISPLAY
DESCRIPTION:Event Reminder - CANCELED: Activity: LEGO Free Play
END:VALARM
END:VCALENDAR