BEGIN:VCALENDAR
VERSION:2.0
PRODID:SFPL Web Calendar
BEGIN:VEVENT
UID:109577@sfpl.org
DTSTAMP:20250216T220000Z
DTSTART:20250216T220000Z
DTEND:20250216T233000Z
SUMMARY:Workshop: Kumihimo Crafternoon Part 2
DESCRIPTION:<p>Join us for another exploration of kumihimo,&nbsp;a form of advanced Japanese braiding traditionally used to make ornamental cords for kimono and samurai accessories. For this session participants will learn a more advanced kumihimo braiding technique, using a handheld disk&nbsp;to create a colorful cord. All kumihimo supplies provided.</p><p>Space limited. Reservations required: (415) 355-2868.</p>
LOCATION:Excelsior - Excelsior Meeting Room
CLASS:PUBLIC
TRANSP:TRANSPARENT
END:VEVENT
BEGIN:VALARM
TRIGGER:-PT1440M
ACTION:DISPLAY
DESCRIPTION:Event Reminder - Workshop: Kumihimo Crafternoon Part 2
END:VALARM
END:VCALENDAR