BEGIN:VCALENDAR
VERSION:2.0
PRODID:SFPL Web Calendar
BEGIN:VEVENT
UID:109653@sfpl.org
DTSTAMP:20250706T200000Z
DTSTART:20250706T200000Z
DTEND:20250706T210000Z
SUMMARY:Workshop: Coding Club
DESCRIPTION:<p>Learn the basics of coding through discussion, activities, Scratch and Python with high school volunteers from the STEM Stairway project. Offering a beginner-friendly programming class to introduce foundational coding concepts and curriculum. Every first and third Sunday of the month. For children ages 9 and older. Space limited. Seats available first come, first served. Presented by <a href="https://www.stemstairway.org/">Stem Stairway</a></p>
LOCATION:Ortega - Ortega Meeting Room
CLASS:PUBLIC
TRANSP:TRANSPARENT
END:VEVENT
BEGIN:VALARM
TRIGGER:-PT1440M
ACTION:DISPLAY
DESCRIPTION:Event Reminder - Workshop: Coding Club
END:VALARM
END:VCALENDAR