BEGIN:VCALENDAR
VERSION:2.0
PRODID:SFPL Web Calendar
BEGIN:VEVENT
UID:110727@sfpl.org
DTSTAMP:20250313T013000Z
DTSTART:20250313T013000Z
DTEND:20250313T023000Z
SUMMARY:Presentation: The Goddess - Images of Power
DESCRIPTION:<p>Explore various cultural and religious manifestations of female deities.&nbsp;</p><p>Connect with the Asian Art Museum - <a href="https://asianart.org/">AAM - Website</a> | <a href="https://www.instagram.com/asianartmuseum/?hl=en">AAM - Instagram</a> | <a href="https://www.facebook.com/AsianArtMuseum/">AAM - Facebook</a> | <a href="https://www.youtube.com/user/AsianArtMuseum">AAM - YouTube</a>&nbsp;&nbsp;</p><p>The Asian Art Museum Docent Program is generously supported by the Dhanam Foundation and Society for Asian Art.&nbsp;</p>
LOCATION:Virtual Library
CLASS:PUBLIC
TRANSP:TRANSPARENT
END:VEVENT
BEGIN:VALARM
TRIGGER:-PT1440M
ACTION:DISPLAY
DESCRIPTION:Event Reminder - Presentation: The Goddess - Images of Power
END:VALARM
END:VCALENDAR