BEGIN:VCALENDAR
VERSION:2.0
PRODID:SFPL Web Calendar
BEGIN:VEVENT
UID:111596@sfpl.org
DTSTAMP:20250315T210000Z
DTSTART:20250315T210000Z
DTEND:20250315T233000Z
SUMMARY:FULL. Workshop: Iris Folding Style Greeting Card
DESCRIPTION:<p><strong>This event is full. For waitlist information call (415)355-5615 or email ovimgr@sfpl.org</strong></p><p>Make greeting cards in Iris Folding style with origami papers and scotch tapes.</p><p>Space limited. Reservations required: (415) 355-5615.</p>
LOCATION:Ocean View - Ocean View Meeting Room
CLASS:PUBLIC
TRANSP:TRANSPARENT
END:VEVENT
BEGIN:VALARM
TRIGGER:-PT1440M
ACTION:DISPLAY
DESCRIPTION:Event Reminder - FULL. Workshop: Iris Folding Style Greeting Card
END:VALARM
END:VCALENDAR