BEGIN:VCALENDAR
VERSION:2.0
PRODID:SFPL Web Calendar
BEGIN:VEVENT
UID:112718@sfpl.org
DTSTAMP:20260328T210000Z
DTSTART:20260328T210000Z
DTEND:20260328T223000Z
SUMMARY:Film: Oshin The Soul of the Cherry Blossoms/桜心: 能登を愛した孤高の絵師
DESCRIPTION:<p>Enjoy the documentary of an artist named <strong>Katsuta Shinpyō</strong> ( 勝田深氷) who worked both in Japan and in San Francisco.</p><p>Shinpyō studied drawing under his father, <a href="https://sfpl.bibliocommons.com/v2/record/S93C1656526">Itō Shinsui (伊東深水</a>), known as the last ukiyo-e artist, and the Western-style painter Koito Gentarō (小糸源太郎). Shinpyō was a painter who was part of the ukiyo-e school that traces back to Mizuno Toshikata (水野年方), <a href="https://sfpl.bibliocommons.com/v2/record/S93C3646703">Tsukioka Yoshitoshi</a> (月岡芳年), and even <a href="https://sfpl.bibliocommons.com/v2/record/S93C1253100">Utagawa Kuniyoshi (歌川国芳)</a>. He has established bases of operations (Shōtōan/勝東庵) in San Francisco and Suzu City, Ishikawa Prefecture. His techniques, style and work, which inherit the traditional techniques and spirit of Japanese painting, are unique in the contemporary art world, and perhaps the term "artist" is more appropriate than "Japanese painter," in the sense that he has mastered a particular art form and made it his livelihood.</p><p>The documentary was created by the Ishikawa Television, Ishikawa Prefecture, Japan.&nbsp;</p><p>Shinpyo's Work at the Asian Art Museum of San Francisco: <a href="https://searchcollection.asianart.org/objects/14880/blossoming-mountain-cherry-trees">Blossoming mountain cherry trees</a> (2001)</p><p>NR, 53 mins., 2014. Closed captions (CC) in English.</p><p><strong>Connect:</strong></p><p><a href="http://www.shinpyokatsuta.com/">Katsuta Shinpyō - Website</a> | <a href="https://searchcollection.asianart.org/people/1787/katsuta-shinpyo">Katsuta Shinpyō's Page at the Asian Art Museum - Website</a></p>
LOCATION:Main Library - Koret Auditorium
CLASS:PUBLIC
TRANSP:TRANSPARENT
END:VEVENT
BEGIN:VALARM
TRIGGER:-PT1440M
ACTION:DISPLAY
DESCRIPTION:Event Reminder - Film: Oshin The Soul of the Cherry Blossoms/桜心: 能登を愛した孤高の絵師
END:VALARM
END:VCALENDAR