BEGIN:VCALENDAR
VERSION:2.0
PRODID:SFPL Web Calendar
BEGIN:VEVENT
UID:113153@sfpl.org
DTSTAMP:20250813T220000Z
DTSTART:20250813T220000Z
DTEND:20250814T000000Z
SUMMARY:Activity: Octo-Play and Giant Jenga
DESCRIPTION:<p>Create a structure using large colorful slotted pieces as building blocks. For ages 6 and younger and their caregivers.&nbsp;</p><p>Meet the giant challenge of removing blocks from a 4-foot tower before it falls. For ages 8 and older.&nbsp;</p>
LOCATION:Potrero - Potrero Meeting Room
CLASS:PUBLIC
TRANSP:TRANSPARENT
END:VEVENT
BEGIN:VALARM
TRIGGER:-PT1440M
ACTION:DISPLAY
DESCRIPTION:Event Reminder - Activity: Octo-Play and Giant Jenga
END:VALARM
END:VCALENDAR