BEGIN:VCALENDAR
VERSION:2.0
PRODID:SFPL Web Calendar
BEGIN:VEVENT
UID:113169@sfpl.org
DTSTAMP:20251018T220000Z
DTSTART:20251018T220000Z
DTEND:20251019T000000Z
SUMMARY:Film: Bride of Frankenstein
DESCRIPTION:<p>Mary Shelley reveals the main characters of her novel survived: Baron Henry Frankenstein, goaded by an even madder scientist, builds his monster a mate.&nbsp;</p><p>NR, 75 mins., 1935. Closed captions (CC) in English.</p>
LOCATION:Mission Bay - Mission Bay Program Room
CLASS:PUBLIC
TRANSP:TRANSPARENT
END:VEVENT
BEGIN:VALARM
TRIGGER:-PT1440M
ACTION:DISPLAY
DESCRIPTION:Event Reminder - Film: Bride of Frankenstein
END:VALARM
END:VCALENDAR