BEGIN:VCALENDAR
VERSION:2.0
PRODID:SFPL Web Calendar
BEGIN:VEVENT
UID:113241@sfpl.org
DTSTAMP:20260707T230000Z
DTSTART:20260707T230000Z
DTEND:20260708T000000Z
SUMMARY:Activity: Compost Crafternoon
DESCRIPTION:<p>Come craft with San Francisco Environment Department. Learn about composting. For ages 5 and older. Youth under the age of 8 must be accompanied by an adult.</p><p>Connect: <a href="https://www.sfenvironment.org/">San Francisco Environment Department – Website</a></p>
LOCATION:Bernal Heights - Bernal Heights Meeting Room
CLASS:PUBLIC
TRANSP:TRANSPARENT
END:VEVENT
BEGIN:VALARM
TRIGGER:-PT1440M
ACTION:DISPLAY
DESCRIPTION:Event Reminder - Activity: Compost Crafternoon
END:VALARM
END:VCALENDAR