BEGIN:VCALENDAR
VERSION:2.0
PRODID:SFPL Web Calendar
BEGIN:VEVENT
UID:113641@sfpl.org
DTSTAMP:20250213T233000Z
DTSTART:20250213T233000Z
DTEND:20250214T003000Z
SUMMARY:Activity: Block Printing
DESCRIPTION:<p>Learn an easy block printing technique using simple tools to create your own unique designs of patterns and illustrations. Experiment with making a “master plate”&nbsp;to print&nbsp;multiple images. For ages 12–18. Space limited. Reservations required: (415) 355-2898.</p>
LOCATION:Ingleside - Ingleside Meeting Room
CLASS:PUBLIC
TRANSP:TRANSPARENT
END:VEVENT
BEGIN:VALARM
TRIGGER:-PT1440M
ACTION:DISPLAY
DESCRIPTION:Event Reminder - Activity: Block Printing
END:VALARM
END:VCALENDAR