BEGIN:VCALENDAR
VERSION:2.0
PRODID:SFPL Web Calendar
BEGIN:VEVENT
UID:113831@sfpl.org
DTSTAMP:20250322T180000Z
DTSTART:20250322T180000Z
DTEND:20250322T190000Z
SUMMARY:Workshop: Seed Library & Swap
DESCRIPTION:<p>Come celebrate the launch of our Seed Library, a new resource with free seeds for local gardeners: herbs, veggies, flowers, California natives, and more! Information about how to grow and harvest seeds will be shared. Learn how you can help grow this community collection.</p>
LOCATION:Ortega - Ortega Back Courtyard
CLASS:PUBLIC
TRANSP:TRANSPARENT
END:VEVENT
BEGIN:VALARM
TRIGGER:-PT1440M
ACTION:DISPLAY
DESCRIPTION:Event Reminder - Workshop: Seed Library & Swap
END:VALARM
END:VCALENDAR