BEGIN:VCALENDAR
VERSION:2.0
PRODID:SFPL Web Calendar
BEGIN:VEVENT
UID:114460@sfpl.org
DTSTAMP:20250427T210000Z
DTSTART:20250427T210000Z
DTEND:20250427T230000Z
SUMMARY:Workshop: Queer Comix with Trinidad Escobar
DESCRIPTION:<p>Note: This program will be rescheduled. At this time, we do not know that date, but you may email <a href="mailto:hormel@sfpl.org">hormel@sfpl.org</a> to be notified.&nbsp;</p><p>Tap into the expansive medium of comix, which can tell jokes, but also convey stories of horror, fantasy, science fiction, nonfiction, memoir and more. This workshop will explore how to use comics to connect the concepts of our ancestors with our present political reality, and begin a comic on a resistance subject of your choice. Taught by&nbsp;multidisciplinary artist and an Autistic-ADHD savant, <a href="https://www.trinidadescobar.com/">Trinidad Escobar</a>, in conjunction with the homegrown queer zine exhibition,&nbsp;<em>Get Busy, </em>on view in the Hormel LGBTQIA Center from&nbsp;March 14 - July 27, 2025. Registration required. Space limited.&nbsp;</p>
LOCATION:Main Library - James C. Hormel LGBTQIA Center - 3rd Fl
CLASS:PUBLIC
TRANSP:TRANSPARENT
END:VEVENT
BEGIN:VALARM
TRIGGER:-PT1440M
ACTION:DISPLAY
DESCRIPTION:Event Reminder - Workshop: Queer Comix with Trinidad Escobar
END:VALARM
END:VCALENDAR