BEGIN:VCALENDAR
VERSION:2.0
PRODID:SFPL Web Calendar
BEGIN:VEVENT
UID:114589@sfpl.org
DTSTAMP:20250726T210000Z
DTSTART:20250726T210000Z
DTEND:20250726T223000Z
SUMMARY:Workshop: Portrait Sketching with Charcoal Pencil
DESCRIPTION:<p>Artist,Tsungwei Moo, introduces participants to the fundamentals of portrait sketching using charcoal pencils. Students will learn to capture facial proportions, shading techniques, and expressive features through step-by-step instruction. The class is ideal for beginners or those looking to enhance their observational and drawing skills. &nbsp;Model is included. &nbsp;For ages 10–18 years old. &nbsp;</p><p><a href="www.moogallery.com">Tsungwei Moo</a> is an artist based in San Francisco, California. Her work spans a variety of media, including mixed media painting, printmaking, and ceramic sculpture. Her art explores themes such as social justice, nature, conservation, and public engagement, reflecting her commitment to both personal expression and broader societal issues.</p>
LOCATION:West Portal - West Portal Children's Area
CLASS:PUBLIC
TRANSP:TRANSPARENT
END:VEVENT
BEGIN:VALARM
TRIGGER:-PT1440M
ACTION:DISPLAY
DESCRIPTION:Event Reminder - Workshop: Portrait Sketching with Charcoal Pencil
END:VALARM
END:VCALENDAR