BEGIN:VCALENDAR
VERSION:2.0
PRODID:SFPL Web Calendar
BEGIN:VEVENT
UID:115861@sfpl.org
DTSTAMP:20250515T220000Z
DTSTART:20250515T220000Z
DTEND:20250515T230000Z
SUMMARY:教學: 探索Google Map應用程序（粵語）/Tutorial: Exploring Google Maps in Cantonese
DESCRIPTION:<p>學習如何使用 Google Maps 進行導航、實時交通更新，及發現附近地點。本教學講座幫助你使用谷歌地圖（Google Map）方便每日出行。名額有限, 請致電(415) 355-2848報名。(5月1日開始接受報名) &nbsp;</p><p>Learn how to use Google Maps for navigation, real-time traffic updates, and discovering nearby places. This workshop helps you make the most of Google Maps for everyday travel.</p><p>Space limited. Reservation required: 415-355-2848. (Starting May 1st)</p><p>This program is part of SF Tech Week.&nbsp;</p><p>Connect: Felton Tech Squad <a href="https://felton.org/social-services/seniors/techsquad/">website</a>.</p>
LOCATION:Visitacion Valley - Visitacion Valley Meeting Room
CLASS:PUBLIC
TRANSP:TRANSPARENT
END:VEVENT
BEGIN:VALARM
TRIGGER:-PT1440M
ACTION:DISPLAY
DESCRIPTION:Event Reminder - 教學: 探索Google Map應用程序（粵語）/Tutorial: Exploring Google Maps in Cantonese
END:VALARM
END:VCALENDAR