BEGIN:VCALENDAR
VERSION:2.0
PRODID:SFPL Web Calendar
BEGIN:VEVENT
UID:116781@sfpl.org
DTSTAMP:20250512T200000Z
DTSTART:20250512T200000Z
DTEND:20250512T210000Z
SUMMARY:Tutorial: Level Up Your Tech Skills with Library Apps
DESCRIPTION:<p>The library has a treasure trove of online resources waiting to be discovered. Learn how to borrow an ebook, listen to music, stream movies, learn a new language, and much more by accessing free Library apps. Bring your preferred mobile device and library card (and any PIN and passwords) to this illuminating one-hour program that describes everything online that your library has to offer and how you can get started today!&nbsp;</p>
LOCATION:Main Library - Computer Training Center - 5th Fl
CLASS:PUBLIC
TRANSP:TRANSPARENT
END:VEVENT
BEGIN:VALARM
TRIGGER:-PT1440M
ACTION:DISPLAY
DESCRIPTION:Event Reminder - Tutorial: Level Up Your Tech Skills with Library Apps
END:VALARM
END:VCALENDAR