BEGIN:VCALENDAR
VERSION:2.0
PRODID:SFPL Web Calendar
BEGIN:VEVENT
UID:117030@sfpl.org
DTSTAMP:20250516T170000Z
DTSTART:20250516T170000Z
DTEND:20250516T180000Z
SUMMARY:Workshop: Exploring Encryption & Security
DESCRIPTION:<p>Explore the principles of encryption and its role in securing digital information. Learn how encryption is applied in everyday tools like web browsers, messaging apps, and online transactions. Gain skills to enhance laptop security, such as creating strong passwords & enabling device encryption.</p><p>Register to join on Zoom.</p><p>If you are new to using Zoom, check out <a href="https://bit.ly/sfplzoominfo">this video and website</a> with more information on how to use Zoom before the program.</p><p>&nbsp;</p><p>Presented by&nbsp;Jose Picazo, the Senior Vitality Coordinator at Curry Senior Center.</p><p>For over 50 years, <a href="https://curryseniorcenter.org/">Curry Senior Center</a> has been dedicated to helping low income and homeless seniors in San Francisco through a holistic care approach. Their mission is promoting wellness, dignity&nbsp;& independence for seniors.</p><p>This event is part of <a href="https://sfpl.org/locations/main-library/bridge-main-5th-floor/sf-tech-week">SF Tech Week</a>.</p>
LOCATION:Virtual Library
CLASS:PUBLIC
TRANSP:TRANSPARENT
END:VEVENT
BEGIN:VALARM
TRIGGER:-PT1440M
ACTION:DISPLAY
DESCRIPTION:Event Reminder - Workshop: Exploring Encryption & Security
END:VALARM
END:VCALENDAR