BEGIN:VCALENDAR
VERSION:2.0
PRODID:SFPL Web Calendar
BEGIN:VEVENT
UID:117054@sfpl.org
DTSTAMP:20250808T210000Z
DTSTART:20250808T210000Z
DTEND:20250808T223000Z
SUMMARY:FULL: Workshop: Fabric Origami Kimono with Jeanie Low
DESCRIPTION:<p><strong>This event is full. For waitlist information call (415) 355-5615 or email </strong><a href="mailto:ovimgr@sfpl.org"><strong>ovimgr@sfpl.org</strong></a></p><p>Learn how to make an origami Kimono with seasoned local artist Jeanie Low. The origami Kimono may be detached as an ornament or as an all-seasonal sculpture. All supplies will be provided, and participants may take home their finished craft.</p><p>Space limited. Reservations required: (415) 355-5615 (starting July 1).</p>
LOCATION:Ocean View - Ocean View Meeting Room
CLASS:PUBLIC
TRANSP:TRANSPARENT
END:VEVENT
BEGIN:VALARM
TRIGGER:-PT1440M
ACTION:DISPLAY
DESCRIPTION:Event Reminder - FULL: Workshop: Fabric Origami Kimono with Jeanie Low
END:VALARM
END:VCALENDAR