BEGIN:VCALENDAR
VERSION:2.0
PRODID:SFPL Web Calendar
BEGIN:VEVENT
UID:117181@sfpl.org
DTSTAMP:20250618T220000Z
DTSTART:20250618T220000Z
DTEND:20250618T230000Z
SUMMARY:Activity: Drop-in Collaborative Puzzle Art
DESCRIPTION:<p>Contribute to our 3rd Annual Tiny Art Show, by creating a collaborative puzzle art piece. Supplies are provided during this drop-in session, one piece per person. The completed puzzle is revealed at the opening reception on July 30th.</p><p>Key Dates:</p><ul><li>Puzzle piece (one per person) available for pickup: June 19th&nbsp;</li><li>Return your puzzle masterpiece by: July 19th</li><li>Puzzle pieces on display: July 30th - August 31st</li><li>Take your puzzle piece home: September 9th</li></ul><p>Be part of this creative collaboration and make your mark on a one-of-a-kind art piece.</p><p>&nbsp;</p>
LOCATION:Bayview/Linda Brooks-Burton - Bayview Meeting Room
CLASS:PUBLIC
TRANSP:TRANSPARENT
END:VEVENT
BEGIN:VALARM
TRIGGER:-PT1440M
ACTION:DISPLAY
DESCRIPTION:Event Reminder - Activity: Drop-in Collaborative Puzzle Art
END:VALARM
END:VCALENDAR