BEGIN:VCALENDAR
VERSION:2.0
PRODID:SFPL Web Calendar
BEGIN:VEVENT
UID:117203@sfpl.org
DTSTAMP:20250926T193000Z
DTSTART:20250926T193000Z
DTEND:20250926T213000Z
SUMMARY:Social: Opening Reception 80th WWII Anniversary: Remember "Comfort Women"
DESCRIPTION:<p>The opening reception for the exhibition, <a href="https://sfpl.org/exhibits/2025/09/26/80th-wwii-anniversary-remember-comfort-women"><i>80th WWII Anniversary: Remember "Comfort Women,"</i></a> is an opportunity to learn more about the stories of the women survivors, the Comfort Women Justice Coalition and the role of sexual violence as a tool of war. &nbsp;&nbsp;</p><p>&nbsp;</p><p><strong>Connect:&nbsp;</strong>&nbsp;</p><p><a href="https://remembercomfortwomen.org/">Comfort Women Justice Coalition Website</a>&nbsp;&nbsp;</p>
LOCATION:Main Library - Latino/Hispanic Meeting Room A
CLASS:PUBLIC
TRANSP:TRANSPARENT
END:VEVENT
BEGIN:VALARM
TRIGGER:-PT1440M
ACTION:DISPLAY
DESCRIPTION:Event Reminder - Social: Opening Reception 80th WWII Anniversary: Remember "Comfort Women"
END:VALARM
END:VCALENDAR