BEGIN:VCALENDAR
VERSION:2.0
PRODID:SFPL Web Calendar
BEGIN:VEVENT
UID:117538@sfpl.org
DTSTAMP:20250724T220000Z
DTSTART:20250724T220000Z
DTEND:20250724T230000Z
SUMMARY:Workshop: Scribble Bots
DESCRIPTION:<p>Create a motorized scribbling bot and learn about electrical circuitry. For ages 9 and older.</p>
LOCATION:Excelsior - Excelsior Meeting Room
CLASS:PUBLIC
TRANSP:TRANSPARENT
END:VEVENT
BEGIN:VALARM
TRIGGER:-PT1440M
ACTION:DISPLAY
DESCRIPTION:Event Reminder - Workshop: Scribble Bots
END:VALARM
END:VCALENDAR