BEGIN:VCALENDAR
VERSION:2.0
PRODID:SFPL Web Calendar
BEGIN:VEVENT
UID:117580@sfpl.org
DTSTAMP:20250801T210000Z
DTSTART:20250801T210000Z
DTEND:20250801T220000Z
SUMMARY:Workshop: Triskele Paper Globe
DESCRIPTION:<p>Create your own by interlocking three stripes of paper into a 3D sphere&nbsp;in the style of triskele. The triskele is an ancient symbol of three interlocking spirals from a central point. For ages 6-12. Space limited. Reservations required: (415) 355-2889.&nbsp;</p>
LOCATION:Chinatown/Him Mark Lai - Chinatown Meeting Room
CLASS:PUBLIC
TRANSP:TRANSPARENT
END:VEVENT
BEGIN:VALARM
TRIGGER:-PT1440M
ACTION:DISPLAY
DESCRIPTION:Event Reminder - Workshop: Triskele Paper Globe
END:VALARM
END:VCALENDAR