BEGIN:VCALENDAR
VERSION:2.0
PRODID:SFPL Web Calendar
BEGIN:VEVENT
UID:117789@sfpl.org
DTSTAMP:20250603T210000Z
DTSTART:20250603T210000Z
DTEND:20250603T230000Z
SUMMARY:Full:Workshop: Mandarin for Beginners
DESCRIPTION:<p><strong>This event is full. For waitlist information call (415)355-5707.</strong></p><p>Discover Chinese culture through an immersive journey into the Mandarin language across engaging classes. Registration is required.&nbsp;</p><p>There will be 8 sessions (dates): 6/3, 6/10, 6/17, 6/24, 7/1, 7/8, 7/15, 7/22</p><p>通過學習中文，探索中華文化。需提前報名。請致電：(415) 355- 5707, 或點擊註冊</p><p>將有8堂課程：</p><p>This program is provided by a partnership with the Education Division of the Taipei Economic and Tzu Chi Academy.</p><p>此課程由臺北經濟文化辦事處教育組、學校和旧金山總圖書﻿館华裔中文合作提供。</p>
LOCATION:Noe Valley/Sally Brunn - Noe Valley Meeting Room
CLASS:PUBLIC
TRANSP:TRANSPARENT
END:VEVENT
BEGIN:VALARM
TRIGGER:-PT1440M
ACTION:DISPLAY
DESCRIPTION:Event Reminder - Full:Workshop: Mandarin for Beginners
END:VALARM
END:VCALENDAR