BEGIN:VCALENDAR
VERSION:2.0
PRODID:SFPL Web Calendar
BEGIN:VEVENT
UID:118043@sfpl.org
DTSTAMP:20250723T210000Z
DTSTART:20250723T210000Z
DTEND:20250723T223000Z
SUMMARY:Activity: YELL Presents The Turtle Thief Interactive Mystery
DESCRIPTION:<p>Solve a mysterious case through games, craft and solving riddles. Uncover the turtle thief mystery and receive an award.</p><p>Our Youth Engaged in Library Leadership (YELL) interns have been working hard all summer to prepare a surprise community event. Come and support your local high school teens.</p>
LOCATION:Excelsior - Excelsior Meeting Room
CLASS:PUBLIC
TRANSP:TRANSPARENT
END:VEVENT
BEGIN:VALARM
TRIGGER:-PT1440M
ACTION:DISPLAY
DESCRIPTION:Event Reminder - Activity: YELL Presents The Turtle Thief Interactive Mystery
END:VALARM
END:VCALENDAR