BEGIN:VCALENDAR
VERSION:2.0
PRODID:SFPL Web Calendar
BEGIN:VEVENT
UID:118156@sfpl.org
DTSTAMP:20250822T210000Z
DTSTART:20250822T210000Z
DTEND:20250822T230000Z
SUMMARY:Workshop: Write the World with Nandita Dinesh
DESCRIPTION:<p>Nandita Dinesh will teach participants how to use their writing as a way to explore current events. This workshop is based on the strategies in her book <i>Creative Writing and the Experience of Others.</i></p><p>Space limited. Reservations required: (415) 355-5757 (starting August 8).</p><p>Nandita holds a PhD in Drama from the University of Cape Town in South Africa, an MA in Performance Studies from the Tisch School of the Arts at New York University, and a BA in Economics & Theater from Wellesley College. An alumna of the United World College movement, Nandita has conducted community-based theatre projects in various parts of the Indian subcontinent, the United States, Mexico, Costa Rica, Guatemala, Rwanda, Uganda, Kenya, South Africa, and Zimbabwe. In 2017, she was awarded the Elliott Hayes Award for Outstanding Achievement in Dramaturgy by Literary Managers and Dramaturgs of the Americas.</p><p>Connect:</p><p><a href="https://nanditadinesh.com/">Nandita Dinesh - Website</a>&nbsp;| <a href="https://www.instagram.com/nandita.dinesh/">Nandita Dinesh - Instagram</a></p>
LOCATION:Bayview/Linda Brooks-Burton - Bayview Meeting Room
CLASS:PUBLIC
TRANSP:TRANSPARENT
END:VEVENT
BEGIN:VALARM
TRIGGER:-PT1440M
ACTION:DISPLAY
DESCRIPTION:Event Reminder - Workshop: Write the World with Nandita Dinesh
END:VALARM
END:VCALENDAR