BEGIN:VCALENDAR
VERSION:2.0
PRODID:SFPL Web Calendar
BEGIN:VEVENT
UID:118172@sfpl.org
DTSTAMP:20250713T220000Z
DTSTART:20250713T220000Z
DTEND:20250713T230000Z
SUMMARY:Workshop: Create a Journal
DESCRIPTION:<p>Create a personalized journal for your writing and/or art. &nbsp;</p><p>Space limited. Reservations required: (415) 355-5616.</p><p>&nbsp;</p>
LOCATION:Eureka Valley/Harvey Milk Memorial - Eureka Valley General Floor Area
CLASS:PUBLIC
TRANSP:TRANSPARENT
END:VEVENT
BEGIN:VALARM
TRIGGER:-PT1440M
ACTION:DISPLAY
DESCRIPTION:Event Reminder - Workshop: Create a Journal
END:VALARM
END:VCALENDAR