BEGIN:VCALENDAR
VERSION:2.0
PRODID:SFPL Web Calendar
BEGIN:VEVENT
UID:118414@sfpl.org
DTSTAMP:20250703T210000Z
DTSTART:20250703T210000Z
DTEND:20250703T214500Z
SUMMARY:Presentation: Fire Engine and Fire Safety
DESCRIPTION:<p>Listen to brave San Francisco firefighters talk about fire safety, the science of fire&nbsp;and show off their marvelous fire engine and equipment. A must for all fire engine fans.</p>
LOCATION:Portola - Portola Meeting Room
CLASS:PUBLIC
TRANSP:TRANSPARENT
END:VEVENT
BEGIN:VALARM
TRIGGER:-PT1440M
ACTION:DISPLAY
DESCRIPTION:Event Reminder - Presentation: Fire Engine and Fire Safety
END:VALARM
END:VCALENDAR