BEGIN:VCALENDAR
VERSION:2.0
PRODID:SFPL Web Calendar
BEGIN:VEVENT
UID:118428@sfpl.org
DTSTAMP:20250726T170000Z
DTSTART:20250726T170000Z
DTEND:20250726T223000Z
SUMMARY:FULL: Social: Field Trip to Mori Point
DESCRIPTION:<p><strong>This event and waitlist are full.</strong></p><p>Take a shuttle from the Noe Valley Branch Library to the beautiful <a href="https://www.parksconservancy.org/parks/mori-point">Mori Point park </a>in Pacifica, one of five National Park sites within the Golden Gate National Recreation Area in San Mateo County.&nbsp;&nbsp;</p><p>We will take a leisurely and easy walk starting at the Mori Point Trail Head out to soak up all the nature and natural beauty of the coast.&nbsp; Maybe we’ll see a California Red-legged Frog or San Francisco Garter Snake?&nbsp; We’ll stop at the Mori Headlands Trail to enjoy the views of the ocean then walk back, complete the loop and end our day.&nbsp; Bring layers, your lunch & water bottle, and your curiosity!</p><p><strong>A partnership with the National Park Service.</strong></p><p>&nbsp;</p>
LOCATION:Noe Valley/Sally Brunn - Noe Valley General Floor Area
CLASS:PUBLIC
TRANSP:TRANSPARENT
END:VEVENT
BEGIN:VALARM
TRIGGER:-PT1440M
ACTION:DISPLAY
DESCRIPTION:Event Reminder - FULL: Social: Field Trip to Mori Point
END:VALARM
END:VCALENDAR