BEGIN:VCALENDAR
VERSION:2.0
PRODID:SFPL Web Calendar
BEGIN:VEVENT
UID:118493@sfpl.org
DTSTAMP:20250626T190000Z
DTSTART:20250626T190000Z
DTEND:20250626T200000Z
SUMMARY:Presentation: Get More Out of Your Cash Flow
DESCRIPTION:<p>Learn how to streamline your cash flow to get more money at the end of the month and more time during the month.&nbsp;</p><p>About the presenter: Alicia Ivancovich is a Certified Financial Planner™ with a financial planning practice in Oakland.&nbsp; She provides pro bono financial advice through <a href="https://advisersgiveback.org/sf-library/">advisersgiveback.org</a>.</p><p>You can reach Alicia at <a href="mailto:alicia@financially-healthy.com">alicia@financially-healthy.com</a>.</p>
LOCATION:Virtual Library
CLASS:PUBLIC
TRANSP:TRANSPARENT
END:VEVENT
BEGIN:VALARM
TRIGGER:-PT1440M
ACTION:DISPLAY
DESCRIPTION:Event Reminder - Presentation: Get More Out of Your Cash Flow
END:VALARM
END:VCALENDAR