BEGIN:VCALENDAR
VERSION:2.0
PRODID:SFPL Web Calendar
BEGIN:VEVENT
UID:119059@sfpl.org
DTSTAMP:20251003T210000Z
DTSTART:20251003T210000Z
DTEND:20251003T230000Z
SUMMARY:Film: Conclave
DESCRIPTION:<p>Conclave follows one of the world’s most secretive and ancient events – selecting the new Pope. Cardinal Lawrence (Ralph Fiennes) is tasked with running this covert process after the unexpected death of the beloved Pope. Once the Catholic Church’s most powerful leaders have gathered from around the world and are locked together in the Vatican halls, Lawrence uncovers a trail of deep secrets left in the dead Pope’s wake, secrets which could shake the foundations of the Church.</p><p>&nbsp;</p><p>PG, 120 mins., 2024. Closed captions (CC) in English.</p>
LOCATION:Bayview/Linda Brooks-Burton - Bayview Meeting Room
CLASS:PUBLIC
TRANSP:TRANSPARENT
END:VEVENT
BEGIN:VALARM
TRIGGER:-PT1440M
ACTION:DISPLAY
DESCRIPTION:Event Reminder - Film: Conclave
END:VALARM
END:VCALENDAR