BEGIN:VCALENDAR
VERSION:2.0
PRODID:SFPL Web Calendar
BEGIN:VEVENT
UID:119312@sfpl.org
DTSTAMP:20250910T010000Z
DTSTART:20250910T010000Z
DTEND:20250910T020000Z
SUMMARY:Presentation: Everyday Artificial Intelligence
DESCRIPTION:<p>The Executive Director of Stanford Data Science, Chris Mentzel, will outline the fascinating journey of Artificial Intelligence (AI) from its early beginnings to its role in shaping modern life. This informative session will delve into the history, current applications, and future potential of AI, highlighting how it touches various aspects of daily living.</p>
LOCATION:Main Library - Learning Studio - 5th Fl
CLASS:PUBLIC
TRANSP:TRANSPARENT
END:VEVENT
BEGIN:VALARM
TRIGGER:-PT1440M
ACTION:DISPLAY
DESCRIPTION:Event Reminder - Presentation: Everyday Artificial Intelligence
END:VALARM
END:VCALENDAR