BEGIN:VCALENDAR
VERSION:2.0
PRODID:SFPL Web Calendar
BEGIN:VEVENT
UID:121336@sfpl.org
DTSTAMP:20250813T003000Z
DTSTART:20250813T003000Z
DTEND:20250813T013000Z
SUMMARY:Presentation: Just Transition For Whom?
DESCRIPTION:<p>To stave off the worst impacts of climate change, a rapid transition away from fossil fuels must occur. Moving from theory to implementation for a large-scale energy transition, who will benefit from the energy transition and who will bear the burden? This talk discusses ways to think through how to advance a just transition&nbsp;and argues that the current political moment is ripe for an ambitious, justice-centered approach.</p><p>J. Mijin Cha is an assistant professor of environmental studies at the University of California, Santa Cruz. She is also a fellow at Cornell University's Climate Jobs Institute, a faculty advisory board member for the UCSC Center for Labor and Community, and a fellow at the Climate and Community Institute. Her book, <a href="https://sfpl.bibliocommons.com/v2/record/S93C6774324"><i>A Just Transition for All: Workers and Communities for a Carbon-Free Future</i></a>, was published by MIT Press in Dec. 2024. Dr. Cha is on the board of Greenpeace Fund, emeritus board member with the Center on Race, Poverty, and the Environment, and a member of the California Bar.</p>
LOCATION:Main Library - Environmental Center Exhibit Space - 5th Fl
CLASS:PUBLIC
TRANSP:TRANSPARENT
END:VEVENT
BEGIN:VALARM
TRIGGER:-PT1440M
ACTION:DISPLAY
DESCRIPTION:Event Reminder - Presentation: Just Transition For Whom?
END:VALARM
END:VCALENDAR