BEGIN:VCALENDAR
VERSION:2.0
PRODID:SFPL Web Calendar
BEGIN:VEVENT
UID:122055@sfpl.org
DTSTAMP:20250703T210000Z
DTSTART:20250703T210000Z
DTEND:20250703T223000Z
SUMMARY:Tutorial: WeChat Basics/微信基礎
DESCRIPTION:<p>Learn the basics of WeChat. Instruction in Chinese. Space limited. Reservations required: (415) 355-2888 (starting June 18).</p><p>瞭解微信基本操作。中文講解。6月18日開始報名，報名請電415-355-2888。</p><p><br>&nbsp;</p>
LOCATION:Chinatown/Him Mark Lai - Chinatown Meeting Room
CLASS:PUBLIC
TRANSP:TRANSPARENT
END:VEVENT
BEGIN:VALARM
TRIGGER:-PT1440M
ACTION:DISPLAY
DESCRIPTION:Event Reminder - Tutorial: WeChat Basics/微信基礎
END:VALARM
END:VCALENDAR