BEGIN:VCALENDAR
VERSION:2.0
PRODID:SFPL Web Calendar
BEGIN:VEVENT
UID:122056@sfpl.org
DTSTAMP:20250821T210000Z
DTSTART:20250821T210000Z
DTEND:20250821T223000Z
SUMMARY:Tutorial: SFPL Mobile Printing Basics /圖書館無綫列印簡介
DESCRIPTION:<p>Learn how to print files from your device to library printer. Registration required. For signup, please call (415) 355-2888 (starting Aug. 1st).</p><p>瞭解如何發送打印文件至圖書館的打印機。8月1日開始報名，報名請電(415) 355-2888。</p>
LOCATION:Chinatown/Him Mark Lai - Chinatown Meeting Room
CLASS:PUBLIC
TRANSP:TRANSPARENT
END:VEVENT
BEGIN:VALARM
TRIGGER:-PT1440M
ACTION:DISPLAY
DESCRIPTION:Event Reminder - Tutorial: SFPL Mobile Printing Basics /圖書館無綫列印簡介
END:VALARM
END:VCALENDAR