BEGIN:VCALENDAR
VERSION:2.0
PRODID:SFPL Web Calendar
BEGIN:VEVENT
UID:122282@sfpl.org
DTSTAMP:20250602T190000Z
DTSTART:20250602T190000Z
DTEND:20250602T200000Z
SUMMARY:Presentation: The Power of Networking
DESCRIPTION:<p>Explored the fundamental elements of networking (what, why, how, and with whom). Participants will learn and practice effective strategies for networking in both formal and informal settings, including how to follow up after initial interactions. Participants are encouraged to practice these strategies during the workshop!</p><p>This program is a partnership between San Francisco Public Library and <a href="https://www.sf.gov/city-career-center">City Career Center</a>.</p><p>Learn how to navigate the City Career Center's booking page <a href="https://youtu.be/lX4XtdzX1VI">here</a>.</p>
LOCATION:Main Library
CLASS:PUBLIC
TRANSP:TRANSPARENT
END:VEVENT
BEGIN:VALARM
TRIGGER:-PT1440M
ACTION:DISPLAY
DESCRIPTION:Event Reminder - Presentation: The Power of Networking
END:VALARM
END:VCALENDAR