BEGIN:VCALENDAR
VERSION:2.0
PRODID:SFPL Web Calendar
BEGIN:VEVENT
UID:122339@sfpl.org
DTSTAMP:20251003T230000Z
DTSTART:20251003T230000Z
DTEND:20251004T003000Z
SUMMARY:Panel: Living Tattoo Traditions
DESCRIPTION:<p>Take a deep dive into the art of tattooing as it’s explored in the exhibition, <a href="https://sfpl.org/exhibits/2025/10/02/living-tattoo-traditions"><i>Living Tattoo Traditions: American Irezumi and Beyond</i></a>. Hear firsthand from several artists in the exhibition as they discuss tattoos as conduits of culture, tattoos as connections to ancestral knowledge, cultural traditions and community, the body as an archive of stories, and tattooing as an intimate exchange between the artist and the wearer. Featuring artists Seem Dayoub, John Henry Gloyne and Leo Zulueta, and artists and co-curators, Molly Kitamura and Takahiro (Taki) Kitamura. The program will be introduced by exhibition photographer, John Agcaoili. &nbsp;</p><p>Connect</p><p><a href="https://www.johnagcaoili.com/">John Agcaoili webiste </a>| <a href="https://www.instagram.com/john.aeric/">John Agcaoili Instagram</a></p><p><a href="https://nassimdayoub.com/tattoos-2">Seem Dayoub website</a> | <a href="https://www.instagram.com/p/C6Uyju3rkb2/">Seem Dayoub Instagram</a></p><p><a href="http://www.serpentandtherainbowtattoo.com/john-henry-gloyne.html">John Henry Gloyne website</a> | <a href="https://www.instagram.com/gloyne83/">John Henry Gloyne Instagram</a></p><p><a href="https://stateofgracetattoo.com/">Molly Kitamura website</a> | <a href="https://www.instagram.com/knivesandneedles/">Molly Kitamura Instagram</a></p><p><a href="https://stateofgracetattoo.com/">Takahiro (Taki) Kitamura website</a> | <a href="https://www.instagram.com/stateofgracetaki/">Takahiro (Taki) Kitamura Instagram</a></p><p><a href="https://www.instagram.com/leo.zulueta/">Leo Zulueta Instagram</a></p><p>&nbsp;</p>
LOCATION:Main Library - Koret Auditorium
CLASS:PUBLIC
TRANSP:TRANSPARENT
END:VEVENT
BEGIN:VALARM
TRIGGER:-PT1440M
ACTION:DISPLAY
DESCRIPTION:Event Reminder - Panel: Living Tattoo Traditions
END:VALARM
END:VCALENDAR