BEGIN:VCALENDAR
VERSION:2.0
PRODID:SFPL Web Calendar
BEGIN:VEVENT
UID:123283@sfpl.org
DTSTAMP:20250630T210000Z
DTSTART:20250630T210000Z
DTEND:20250630T220000Z
SUMMARY:Workshop: Coding Club
DESCRIPTION:<p>Learn the basics of coding through discussion, activities, and the <a href="https://www.google.com/search?rlz=1C1FKPE_enUS1059US1059&cs=0&sca_esv=817446a406dac67b&q=Scratch&sa=X&ved=2ahUKEwiB1OCPvK2NAxVLl-4BHSzNNJMQxccNegQIAxAB&mstk=AUtExfBfHoh0iqJ4r10VqZR6yQQKedncTzfyjKM1nh3bmKDZ0ZEB2ylMdxiReMkEXZThQgn5oyzGKwezPOtcGS352zYQuw2jHKWUWs3eNCOmkvF5zAxowwuXoJ53z3qOevQSv1_DzsFxvWlqKAcavSPBJ8jIcMmppnPm4Pg6c4PAWYdtS0g&csui=3">Scratch</a> programming language. Led by volunteers from George Washington High School's Girls Who Code club. For girls 7–18.</p>
LOCATION:Ortega - Ortega Meeting Room
CLASS:PUBLIC
TRANSP:TRANSPARENT
END:VEVENT
BEGIN:VALARM
TRIGGER:-PT1440M
ACTION:DISPLAY
DESCRIPTION:Event Reminder - Workshop: Coding Club
END:VALARM
END:VCALENDAR