BEGIN:VCALENDAR
VERSION:2.0
PRODID:SFPL Web Calendar
BEGIN:VEVENT
UID:123382@sfpl.org
DTSTAMP:20250710T220000Z
DTSTART:20250710T220000Z
DTEND:20250711T000000Z
SUMMARY:Workshop: STEM Egg Drop
DESCRIPTION:<p>Can you create a container that can protect an egg from a large drop? For ages 8–12.</p><p>Teen-planned and presented by <a href="https://lowellstem4kids.carrd.co/">Lowell High School's Stem4Kids</a>.&nbsp;</p>
LOCATION:Glen Park - Glen Park Meeting Room
CLASS:PUBLIC
TRANSP:TRANSPARENT
END:VEVENT
BEGIN:VALARM
TRIGGER:-PT1440M
ACTION:DISPLAY
DESCRIPTION:Event Reminder - Workshop: STEM Egg Drop
END:VALARM
END:VCALENDAR