BEGIN:VCALENDAR
VERSION:2.0
PRODID:SFPL Web Calendar
BEGIN:VEVENT
UID:123553@sfpl.org
DTSTAMP:20250708T223000Z
DTSTART:20250708T223000Z
DTEND:20250709T000000Z
SUMMARY:Presentation: Climate Talks—Reuse Revolution
DESCRIPTION:<p>Do you want to take climate action, one boba cup at a time?</p><p>Join us for a fun and eye-opening conversation about how your favorite drinks can actually be part of the solution. Learn why single-use culture is fueling climate change and how we can make a difference by switching to reusable cups. Bring your friends and take part in a city-wide reusable boba cup challenge! Afterwards, youth and young adults are encouraged to head over to the San Francisco Environment Department for casual mixer.</p><p>The San Francisco Environment Department drives climate action and enhances the quality of life for all San Franciscans. As a department within the City and County of San Francisco, it leads with innovation, collaboration, and bold environmental policies.</p><p>This event is Part 1 of the Climate Talk series for Plastic-Free July. Attendance for both sessions is recommended but not required.</p><p>&nbsp;</p><p><strong>Connect:</strong></p><p><a href="https://www.sfenvironment.org/">SF Environment – Website</a> | <a href="https://www.instagram.com/sfenvironment/">SF Environment – Instagram</a> | <a href="https://www.youtube.com/user/sfenvironment">SF Environment – YouTube channel</a></p>
LOCATION:Main Library - Latino/Hispanic Meeting Room A
CLASS:PUBLIC
TRANSP:TRANSPARENT
END:VEVENT
BEGIN:VALARM
TRIGGER:-PT1440M
ACTION:DISPLAY
DESCRIPTION:Event Reminder - Presentation: Climate Talks—Reuse Revolution
END:VALARM
END:VCALENDAR