BEGIN:VCALENDAR
VERSION:2.0
PRODID:SFPL Web Calendar
BEGIN:VEVENT
UID:123689@sfpl.org
DTSTAMP:20250823T220000Z
DTSTART:20250823T220000Z
DTEND:20250823T233000Z
SUMMARY:Activity: LEGO Robotics
DESCRIPTION:<p>Explore engineering with LEGO Mindstorms and Lowell High School's CardinalBotics. For ages 6 and older.</p><p>&nbsp;</p>
LOCATION:West Portal - West Portal Children's Area
CLASS:PUBLIC
TRANSP:TRANSPARENT
END:VEVENT
BEGIN:VALARM
TRIGGER:-PT1440M
ACTION:DISPLAY
DESCRIPTION:Event Reminder - Activity: LEGO Robotics
END:VALARM
END:VCALENDAR