BEGIN:VCALENDAR
VERSION:2.0
PRODID:SFPL Web Calendar
BEGIN:VEVENT
UID:123791@sfpl.org
DTSTAMP:20250806T210000Z
DTSTART:20250806T210000Z
DTEND:20250806T223000Z
SUMMARY:Workshop: Business Foundations: Navigating Entities and Government Filings
DESCRIPTION:<p>Learn the essential steps to legally start a business, from choosing a business structure to obtaining the necessary licenses and registrations. This workshop will explore different business entities—Sole Proprietorship, General Partnership, LLC and S-Corp—to help you determine the best fit for your needs. The workshop will also cover essential licenses, permits, registrations and fictitious business name filings, with a special focus on Bay Area-specific requirements.</p><p>Offered in partnership with SCORE San Francisco. Mitchell Grunat is a seasoned executive with experience in consumer goods, food service, retail and medical industries. He has expertise in multi-unit national retail operations, marketing, lease negotiation, contract manufacturing and franchising. A SCORE mentor for nearly a decade, Grunat has helped aspiring entrepreneurs launch their businesses and assisted existing business owners in overcoming challenges and achieving growth.</p><p>Connect:</p><p><a href="https://www.score.org/sanfrancisco">SCORE San Francisco - Website</a> | <a href="https://www.instagram.com/scoresanfrancisco">SCORE San Francisco - Instagram</a> | <a href="https://www.facebook.com/SCORESanFranciscoCA">SCORE San Francisco - Facebook</a> | <a href="https://www.linkedin.com/company/score-mentors-san-francisco">SCORE San Francisco - Linkedin</a></p>
LOCATION:Main Library - Steve Silver Music Center - 4th Fl
CLASS:PUBLIC
TRANSP:TRANSPARENT
END:VEVENT
BEGIN:VALARM
TRIGGER:-PT1440M
ACTION:DISPLAY
DESCRIPTION:Event Reminder - Workshop: Business Foundations: Navigating Entities and Government Filings
END:VALARM
END:VCALENDAR