BEGIN:VCALENDAR
VERSION:2.0
PRODID:SFPL Web Calendar
BEGIN:VEVENT
UID:124393@sfpl.org
DTSTAMP:20251004T171500Z
DTSTART:20251004T171500Z
DTEND:20251004T180000Z
SUMMARY:Activity: Family Music Circle featuring Opera Bear
DESCRIPTION:<p>Opera Bear, from SF Opera, joins Potrero Branch’s Family Music Circle for a special session of music-making fun. For children ages 0-7 and their caregivers.</p>
LOCATION:Potrero - Potrero Meeting Room
CLASS:PUBLIC
TRANSP:TRANSPARENT
END:VEVENT
BEGIN:VALARM
TRIGGER:-PT1440M
ACTION:DISPLAY
DESCRIPTION:Event Reminder - Activity: Family Music Circle featuring Opera Bear
END:VALARM
END:VCALENDAR