BEGIN:VCALENDAR
VERSION:2.0
PRODID:SFPL Web Calendar
BEGIN:VEVENT
UID:124788@sfpl.org
DTSTAMP:20251004T210000Z
DTSTART:20251004T210000Z
DTEND:20251004T220000Z
SUMMARY:Activity: Make Kaleidoscopes
DESCRIPTION:<p>Learn how to make a simple kaleidoscope and see the world in a dazzling new way. For children and their caregivers.</p>
LOCATION:Excelsior - Excelsior Meeting Room
CLASS:PUBLIC
TRANSP:TRANSPARENT
END:VEVENT
BEGIN:VALARM
TRIGGER:-PT1440M
ACTION:DISPLAY
DESCRIPTION:Event Reminder - Activity: Make Kaleidoscopes
END:VALARM
END:VCALENDAR