BEGIN:VCALENDAR
VERSION:2.0
PRODID:SFPL Web Calendar
BEGIN:VEVENT
UID:126148@sfpl.org
DTSTAMP:20250921T220000Z
DTSTART:20250921T220000Z
DTEND:20250921T230000Z
SUMMARY:Activity: Create with Nature
DESCRIPTION:<p>Discover your love of nature&nbsp;with this open-ended natural loose parts play event&nbsp;designed to inspire curiosity, creativity, connection to the natural world and to each other.&nbsp;For children and their families.</p>
LOCATION:Sunset - Sunset Program Room
CLASS:PUBLIC
TRANSP:TRANSPARENT
END:VEVENT
BEGIN:VALARM
TRIGGER:-PT1440M
ACTION:DISPLAY
DESCRIPTION:Event Reminder - Activity: Create with Nature
END:VALARM
END:VCALENDAR