BEGIN:VCALENDAR
VERSION:2.0
PRODID:SFPL Web Calendar
BEGIN:VEVENT
UID:126174@sfpl.org
DTSTAMP:20250716T210000Z
DTSTART:20250716T210000Z
DTEND:20250716T220000Z
SUMMARY:Presentation: Effective Communication
DESCRIPTION:<p>Learn about specific strategies to enhance your business communication style and communicate effectively during job interviews, City workplaces or other professional settings.</p><p>This program is a partnership between San Francisco Public Library and <a href="https://www.sf.gov/city-career-center">City Career Center</a>.</p><p>Learn how to navigate the City Career Center's booking page <a href="https://youtu.be/lX4XtdzX1VI">here</a>.</p>
LOCATION:Main Library
CLASS:PUBLIC
TRANSP:TRANSPARENT
END:VEVENT
BEGIN:VALARM
TRIGGER:-PT1440M
ACTION:DISPLAY
DESCRIPTION:Event Reminder - Presentation: Effective Communication
END:VALARM
END:VCALENDAR