BEGIN:VCALENDAR
VERSION:2.0
PRODID:SFPL Web Calendar
BEGIN:VEVENT
UID:126271@sfpl.org
DTSTAMP:20250916T230000Z
DTSTART:20250916T230000Z
DTEND:20250917T000000Z
SUMMARY:Activity: Assemble Your Own Mangonada
DESCRIPTION:<p>One of Mexico's favorite treats, mangonada (also known as chamango) is a frozen beverage made with mango, chamoy and chile-lime seasoning. It is sweet, tangy, and a little spicy (spicy is optional). Learn about the ingredients that go into this treat and assemble your own. For ages 5–18. Youth under the age of 8 must be accompanied by an adult.</p>
LOCATION:Bayview/Linda Brooks-Burton - Bayview Meeting Room
CLASS:PUBLIC
TRANSP:TRANSPARENT
END:VEVENT
BEGIN:VALARM
TRIGGER:-PT1440M
ACTION:DISPLAY
DESCRIPTION:Event Reminder - Activity: Assemble Your Own Mangonada
END:VALARM
END:VCALENDAR