BEGIN:VCALENDAR
VERSION:2.0
PRODID:SFPL Web Calendar
BEGIN:VEVENT
UID:126858@sfpl.org
DTSTAMP:20251005T210000Z
DTSTART:20251005T210000Z
DTEND:20251005T220000Z
SUMMARY:Performance: La Familia Peña-Govea
DESCRIPTION:<p>Celebrate Latinx heritage with the latest offering from the three-generation musical family, La Familia Peña-Govea, who play original and traditional bilingual Spanish/English children's music. Drawing on folk traditions like cumbia, ranchera and sones, René y Familia brings the party wherever they go.</p>
LOCATION:Eureka Valley/Harvey Milk Memorial - Eureka Valley Back Courtyard
CLASS:PUBLIC
TRANSP:TRANSPARENT
END:VEVENT
BEGIN:VALARM
TRIGGER:-PT1440M
ACTION:DISPLAY
DESCRIPTION:Event Reminder - Performance: La Familia Peña-Govea
END:VALARM
END:VCALENDAR