BEGIN:VCALENDAR
VERSION:2.0
PRODID:SFPL Web Calendar
BEGIN:VEVENT
UID:126990@sfpl.org
DTSTAMP:20250915T233000Z
DTSTART:20250915T233000Z
DTEND:20250916T003000Z
SUMMARY:Activity: Clothespin Magnet Making
DESCRIPTION:<p>Make personalized magnets out of magazines, comics, washi tape or your own art. These will look adorable on your refrigerator or school locker. For ages 10–18.</p>
LOCATION:Glen Park - Glen Park Meeting Room
CLASS:PUBLIC
TRANSP:TRANSPARENT
END:VEVENT
BEGIN:VALARM
TRIGGER:-PT1440M
ACTION:DISPLAY
DESCRIPTION:Event Reminder - Activity: Clothespin Magnet Making
END:VALARM
END:VCALENDAR